BEGIN:VCALENDAR
VERSION:2.0
PRODID:-//Les Bénines d&#039;Apie - ECPv6.15.20//NONSGML v1.0//EN
CALSCALE:GREGORIAN
METHOD:PUBLISH
X-ORIGINAL-URL:https://www.lesbenines.org
X-WR-CALDESC:Évènements pour Les Bénines d&#039;Apie
REFRESH-INTERVAL;VALUE=DURATION:PT1H
X-Robots-Tag:noindex
X-PUBLISHED-TTL:PT1H
BEGIN:VTIMEZONE
TZID:Europe/Paris
BEGIN:DAYLIGHT
TZOFFSETFROM:+0100
TZOFFSETTO:+0200
TZNAME:CEST
DTSTART:20200329T010000
END:DAYLIGHT
BEGIN:STANDARD
TZOFFSETFROM:+0200
TZOFFSETTO:+0100
TZNAME:CET
DTSTART:20201025T010000
END:STANDARD
BEGIN:DAYLIGHT
TZOFFSETFROM:+0100
TZOFFSETTO:+0200
TZNAME:CEST
DTSTART:20210328T010000
END:DAYLIGHT
BEGIN:STANDARD
TZOFFSETFROM:+0200
TZOFFSETTO:+0100
TZNAME:CET
DTSTART:20211031T010000
END:STANDARD
BEGIN:DAYLIGHT
TZOFFSETFROM:+0100
TZOFFSETTO:+0200
TZNAME:CEST
DTSTART:20220327T010000
END:DAYLIGHT
BEGIN:STANDARD
TZOFFSETFROM:+0200
TZOFFSETTO:+0100
TZNAME:CET
DTSTART:20221030T010000
END:STANDARD
END:VTIMEZONE
BEGIN:VEVENT
DTSTART;VALUE=DATE:20210709
DTEND;VALUE=DATE:20210710
DTSTAMP:20260424T223007
CREATED:20201031T154433Z
LAST-MODIFIED:20210628T171000Z
UID:18812-1625788800-1625875199@www.lesbenines.org
SUMMARY:Sortie cinéma avec Catherine VP [SUR INSCRIPTION]
DESCRIPTION:Soirée exceptionnelle Festival de Cannes ! \nCatherine VP vous propose de voir en avant-première “BENEDETTA “\, le film de Paul Vernhoeven présenté à Cannes. \nLa séance aura lieu au Cinéma STUDIO 28 (cinéma historique\, le premier de Paris construit en\n1928 et décoré par Jean Cocteau). Un dîner est prévu avant la séance. \nAnimatrice : Catherine VP \n\n\n  \n  \nIdentifiez-vous pour voir les détails de cette sortie :\nUne fois identifiée en tant qu’adhérente\, vous pourrez accéder ici à toutes les informations de rendez-vous\, horaires\, lieux etc.\nM’identifier
URL:https://www.lesbenines.org/evenement/sortie-cinema-avec-catherine-vp-sur-inscription/
CATEGORIES:Sortie Cinéma ou théatre
ATTACH;FMTTYPE=image/jpeg:https://www.lesbenines.org/wp-content/uploads/2019/09/popcorn.jpg
END:VEVENT
END:VCALENDAR