BEGIN:VCALENDAR
VERSION:2.0
PRODID:-//Les Bénines d&#039;Apie - ECPv6.15.20//NONSGML v1.0//EN
CALSCALE:GREGORIAN
METHOD:PUBLISH
X-WR-CALNAME:Les Bénines d&#039;Apie
X-ORIGINAL-URL:https://www.lesbenines.org
X-WR-CALDESC:Évènements pour Les Bénines d&#039;Apie
REFRESH-INTERVAL;VALUE=DURATION:PT1H
X-Robots-Tag:noindex
X-PUBLISHED-TTL:PT1H
BEGIN:VTIMEZONE
TZID:Europe/Paris
BEGIN:DAYLIGHT
TZOFFSETFROM:+0100
TZOFFSETTO:+0200
TZNAME:CEST
DTSTART:20190331T010000
END:DAYLIGHT
BEGIN:STANDARD
TZOFFSETFROM:+0200
TZOFFSETTO:+0100
TZNAME:CET
DTSTART:20191027T010000
END:STANDARD
BEGIN:DAYLIGHT
TZOFFSETFROM:+0100
TZOFFSETTO:+0200
TZNAME:CEST
DTSTART:20200329T010000
END:DAYLIGHT
BEGIN:STANDARD
TZOFFSETFROM:+0200
TZOFFSETTO:+0100
TZNAME:CET
DTSTART:20201025T010000
END:STANDARD
BEGIN:DAYLIGHT
TZOFFSETFROM:+0100
TZOFFSETTO:+0200
TZNAME:CEST
DTSTART:20210328T010000
END:DAYLIGHT
BEGIN:STANDARD
TZOFFSETFROM:+0200
TZOFFSETTO:+0100
TZNAME:CET
DTSTART:20211031T010000
END:STANDARD
END:VTIMEZONE
BEGIN:VEVENT
DTSTART;VALUE=DATE:20200627
DTEND;VALUE=DATE:20200628
DTSTAMP:20260425T183421
CREATED:20200531T150939Z
LAST-MODIFIED:20200622T194706Z
UID:18320-1593216000-1593302399@www.lesbenines.org
SUMMARY:Sortie cinéma avec Catherine VP [CONFIRMÉE - SUR INSCRIPTION 8 PLACES]
DESCRIPTION:Retrouvons-nous devant une toile. Exceptionnellement sur inscription compte tenu des précautions sanitaires. \nAnimatrice : Catherine VP \n\n\nIdentifiez-vous pour voir les détails de cette randonnée :\nUne fois identifiée en tant qu’adhérente\, vous pourrez accéder ici à toutes les informations de rendez-vous\, horaires\, lieux etc.\nM’identifier \n \n \nVous pouvez participer à une randonnée d’essai sans engagement de votre part :\nCliquez sur le bouton ci-dessous et indiquez-nous votre choix en laissant  vos coordonnées pour que l’on puisse vous répondre en vous précisant le lieu de rendez-vous et autres détails. Afin que nous puissions vous répondre a temps\, contactez-nous au plus tard le vendredi précédent la randonnée.\nParticiper en tant qu’invitée
URL:https://www.lesbenines.org/evenement/sortie-cinema-avec-catherine-vp-6/
CATEGORIES:Sortie Cinéma ou théatre
ATTACH;FMTTYPE=image/jpeg:https://www.lesbenines.org/wp-content/uploads/2019/09/popcorn.jpg
END:VEVENT
END:VCALENDAR