BEGIN:VCALENDAR
VERSION:2.0
PRODID:-//Les Bénines d&#039;Apie - ECPv6.15.20//NONSGML v1.0//EN
CALSCALE:GREGORIAN
METHOD:PUBLISH
X-WR-CALNAME:Les Bénines d&#039;Apie
X-ORIGINAL-URL:https://www.lesbenines.org
X-WR-CALDESC:Évènements pour Les Bénines d&#039;Apie
REFRESH-INTERVAL;VALUE=DURATION:PT1H
X-Robots-Tag:noindex
X-PUBLISHED-TTL:PT1H
BEGIN:VTIMEZONE
TZID:Europe/Paris
BEGIN:DAYLIGHT
TZOFFSETFROM:+0100
TZOFFSETTO:+0200
TZNAME:CEST
DTSTART:20200329T010000
END:DAYLIGHT
BEGIN:STANDARD
TZOFFSETFROM:+0200
TZOFFSETTO:+0100
TZNAME:CET
DTSTART:20201025T010000
END:STANDARD
BEGIN:DAYLIGHT
TZOFFSETFROM:+0100
TZOFFSETTO:+0200
TZNAME:CEST
DTSTART:20210328T010000
END:DAYLIGHT
BEGIN:STANDARD
TZOFFSETFROM:+0200
TZOFFSETTO:+0100
TZNAME:CET
DTSTART:20211031T010000
END:STANDARD
BEGIN:DAYLIGHT
TZOFFSETFROM:+0100
TZOFFSETTO:+0200
TZNAME:CEST
DTSTART:20220327T010000
END:DAYLIGHT
BEGIN:STANDARD
TZOFFSETFROM:+0200
TZOFFSETTO:+0100
TZNAME:CET
DTSTART:20221030T010000
END:STANDARD
END:VTIMEZONE
BEGIN:VEVENT
DTSTART;VALUE=DATE:20210205
DTEND;VALUE=DATE:20210206
DTSTAMP:20260425T043315
CREATED:20201031T154844Z
LAST-MODIFIED:20210201T184237Z
UID:18816-1612483200-1612569599@www.lesbenines.org
SUMMARY:Info cinéma de Catherine VP
DESCRIPTION:Catherine VP vous transmet une information ciné qui vient de “L’entrepôt” : \n\n\n\nChers spectateurs\, chères spectatrices\, \nEn attendant de vous accueillir au cinéma\, nous avons le plaisir de vous présenter une des dernières pépites du cinéma français\, pour notre prochain rendez-vous en ligne… \nCe vendredi 5 février à 19h30 pour une nouvelle séance de Lost In Frenchlation\, une programmation sous-titrée anglais. Replongez dans votre adolescence pour suivre le parcours singulier de deux jeunes filles\, à travers le documentaire sensible et touchant ADOLESCENTES. La projection en ligne sera suivie d’un débat (en anglais) avec le réalisateur Sébastien Lifshitz. \nAmi.es anglophones et francophones\, nous vous espérons aussi nombreux qu’aux dernières séances ! \nTarif unique : 6€ \nRéserver\n\n\n\n 
URL:https://www.lesbenines.org/evenement/sortie-cinema-avec-catherine-vp-sur-inscription-3/
CATEGORIES:Sortie Cinéma ou théatre
ATTACH;FMTTYPE=image/jpeg:https://www.lesbenines.org/wp-content/uploads/2019/09/popcorn.jpg
END:VEVENT
END:VCALENDAR