BEGIN:VCALENDAR
VERSION:2.0
PRODID:-//Les Bénines d&#039;Apie - ECPv6.15.20//NONSGML v1.0//EN
CALSCALE:GREGORIAN
METHOD:PUBLISH
X-WR-CALNAME:Les Bénines d&#039;Apie
X-ORIGINAL-URL:https://www.lesbenines.org
X-WR-CALDESC:Évènements pour Les Bénines d&#039;Apie
REFRESH-INTERVAL;VALUE=DURATION:PT1H
X-Robots-Tag:noindex
X-PUBLISHED-TTL:PT1H
BEGIN:VTIMEZONE
TZID:Europe/Paris
BEGIN:DAYLIGHT
TZOFFSETFROM:+0100
TZOFFSETTO:+0200
TZNAME:CEST
DTSTART:20190331T010000
END:DAYLIGHT
BEGIN:STANDARD
TZOFFSETFROM:+0200
TZOFFSETTO:+0100
TZNAME:CET
DTSTART:20191027T010000
END:STANDARD
BEGIN:DAYLIGHT
TZOFFSETFROM:+0100
TZOFFSETTO:+0200
TZNAME:CEST
DTSTART:20200329T010000
END:DAYLIGHT
BEGIN:STANDARD
TZOFFSETFROM:+0200
TZOFFSETTO:+0100
TZNAME:CET
DTSTART:20201025T010000
END:STANDARD
BEGIN:DAYLIGHT
TZOFFSETFROM:+0100
TZOFFSETTO:+0200
TZNAME:CEST
DTSTART:20210328T010000
END:DAYLIGHT
BEGIN:STANDARD
TZOFFSETFROM:+0200
TZOFFSETTO:+0100
TZNAME:CET
DTSTART:20211031T010000
END:STANDARD
END:VTIMEZONE
BEGIN:VEVENT
DTSTART;VALUE=DATE:20200522
DTEND;VALUE=DATE:20200523
DTSTAMP:20260425T183935
CREATED:20200519T194455Z
LAST-MODIFIED:20200520T132336Z
UID:18288-1590105600-1590191999@www.lesbenines.org
SUMMARY:Culture chez vous avec Catherine VP [NOUVEAUTÉ]
DESCRIPTION:Pour 2\,50 euros on peut revoir ou voir (!) PORTRAIT DE LA JEUNE FILLE EN FEU (et bien d’autres films d’auteur) en attendant que les salles nous accueillent à nouveau. \nhttps://www.franceinter.fr/cinema/le-cinema-a-la-maison-avec-universcine \nPar ailleurs Ariane Mnouchkine\, cette grande et généreuse dame\, met tous ses spectacles accessibles à tout le monde sur la plateforme vimeo… De quoi en prendre de la graine au point de vue liberté et égalité face aux difficultés de diffusion de la culture en cette période. \nhttps://www.theatre-du-soleil.fr/fr/les-editos/editorial-du-26-mars-2020-41 \n \nVous pouvez participer à une randonnée d’essai sans engagement de votre part :\nCliquez sur le bouton ci-dessous et indiquez-nous votre choix en laissant  vos coordonnées pour que l’on puisse vous répondre en vous précisant le lieu de rendez-vous et autres détails. Afin que nous puissions vous répondre a temps\, contactez-nous au plus tard le vendredi précédent la randonnée.\nParticiper en tant qu’invitée
URL:https://www.lesbenines.org/evenement/culture-chez-vous-avec-catherine-vp-nouveaute/
CATEGORIES:Sortie Cinéma ou théatre
ATTACH;FMTTYPE=image/jpeg:https://www.lesbenines.org/wp-content/uploads/2019/09/popcorn.jpg
END:VEVENT
END:VCALENDAR